Package: mBPCR Version: 1.58.0 Command: chmod a+r mBPCR -R && E:\biocbuild\bbs-3.19-bioc\R\bin\R.exe CMD build --keep-empty-dirs --no-resave-data mBPCR StartedAt: 2024-10-16 20:06:36 -0400 (Wed, 16 Oct 2024) EndedAt: 2024-10-16 20:07:55 -0400 (Wed, 16 Oct 2024) EllapsedTime: 78.6 seconds RetCode: 0 Status: OK PackageFile: mBPCR_1.58.0.tar.gz PackageFileSize: 693.4 KiB