Package: maCorrPlot Version: 1.74.0 Command: rm -rf maCorrPlot.buildbin-libdir && mkdir maCorrPlot.buildbin-libdir && /Users/biocbuild/BBS/utils/build-universal.sh maCorrPlot_1.74.0.tar.gz /Library/Frameworks/R.framework/Resources/bin/R maCorrPlot.buildbin-libdir StartedAt: 2024-10-18 19:12:10 -0400 (Fri, 18 Oct 2024) EndedAt: 2024-10-18 19:12:15 -0400 (Fri, 18 Oct 2024) EllapsedTime: 4.6 seconds RetCode: 0 Status: OK PackageFile: maCorrPlot_1.74.0.tgz PackageFileSize: 1.168 MiB