Package: maCorrPlot Version: 1.74.0 Command: /Library/Frameworks/R.framework/Resources/bin/R CMD INSTALL maCorrPlot StartedAt: 2024-10-16 15:36:19 -0400 (Wed, 16 Oct 2024) EndedAt: 2024-10-16 15:36:22 -0400 (Wed, 16 Oct 2024) EllapsedTime: 2.2 seconds RetCode: 0 Status: OK