Package: maCorrPlot Version: 1.74.0 Command: /Library/Frameworks/R.framework/Resources/bin/R CMD build --keep-empty-dirs --no-resave-data maCorrPlot StartedAt: 2024-10-16 20:27:14 -0400 (Wed, 16 Oct 2024) EndedAt: 2024-10-16 20:27:34 -0400 (Wed, 16 Oct 2024) EllapsedTime: 20.3 seconds RetCode: 0 Status: OK PackageFile: maCorrPlot_1.74.0.tar.gz PackageFileSize: 1.265 MiB