Package: maSigPro Version: 1.76.0 Command: /Library/Frameworks/R.framework/Resources/bin/R CMD check --install=check:maSigPro.install-out.txt --library=/Library/Frameworks/R.framework/Resources/library --no-vignettes --timings maSigPro_1.76.0.tar.gz StartedAt: 2024-10-18 02:39:58 -0400 (Fri, 18 Oct 2024) EndedAt: 2024-10-18 02:42:46 -0400 (Fri, 18 Oct 2024) EllapsedTime: 167.9 seconds RetCode: 0 Status: OK CheckDir: maSigPro.Rcheck Warnings: 0