Package: maSigPro Version: 1.76.0 Command: rm -rf maSigPro.buildbin-libdir && mkdir maSigPro.buildbin-libdir && E:\biocbuild\bbs-3.19-bioc\R\bin\R.exe CMD INSTALL --build --library=maSigPro.buildbin-libdir maSigPro_1.76.0.tar.gz StartedAt: 2024-10-17 08:04:39 -0400 (Thu, 17 Oct 2024) EndedAt: 2024-10-17 08:04:58 -0400 (Thu, 17 Oct 2024) EllapsedTime: 18.3 seconds RetCode: 0 Status: OK PackageFile: maSigPro_1.76.0.zip PackageFileSize: 1.609 MiB