Package: made4 Version: 1.78.0 Command: /home/biocbuild/R/R-beta-2024-04-15_r86425/bin/R CMD INSTALL made4 StartedAt: 2024-05-08 20:13:11 -0000 (Wed, 08 May 2024) EndedAt: 2024-05-08 20:13:41 -0000 (Wed, 08 May 2024) EllapsedTime: 29.6 seconds RetCode: 0 Status: OK