Package: made4 Version: 1.78.0 Command: /home/biocbuild/bbs-3.19-bioc/R/bin/R CMD build --keep-empty-dirs --no-resave-data made4 StartedAt: 2024-10-16 19:14:21 -0400 (Wed, 16 Oct 2024) EndedAt: 2024-10-16 19:14:58 -0400 (Wed, 16 Oct 2024) EllapsedTime: 37.1 seconds RetCode: 0 Status: OK PackageFile: made4_1.78.0.tar.gz PackageFileSize: 2.312 MiB