Package: made4 Version: 1.78.0 Command: /home/biocbuild/bbs-3.19-bioc/R/bin/R CMD INSTALL made4 StartedAt: 2024-10-16 15:56:04 -0400 (Wed, 16 Oct 2024) EndedAt: 2024-10-16 15:56:26 -0400 (Wed, 16 Oct 2024) EllapsedTime: 21.4 seconds RetCode: 0 Status: OK