Package: maftools Version: 2.20.0 Command: /Library/Frameworks/R.framework/Resources/bin/R CMD INSTALL maftools StartedAt: 2024-10-16 17:59:31 -0400 (Wed, 16 Oct 2024) EndedAt: 2024-10-16 17:59:51 -0400 (Wed, 16 Oct 2024) EllapsedTime: 20.0 seconds RetCode: 0 Status: OK