Package: maftools Version: 2.20.0 Command: /Library/Frameworks/R.framework/Resources/bin/R CMD build --keep-empty-dirs --no-resave-data maftools StartedAt: 2024-10-16 20:28:09 -0400 (Wed, 16 Oct 2024) EndedAt: 2024-10-16 20:36:47 -0400 (Wed, 16 Oct 2024) EllapsedTime: 517.8 seconds RetCode: 0 Status: OK PackageFile: maftools_2.20.0.tar.gz PackageFileSize: 12.2 MiB