Package: maftools Version: 2.20.0 Command: /Library/Frameworks/R.framework/Resources/bin/R CMD INSTALL maftools StartedAt: 2024-10-16 16:21:27 -0400 (Wed, 16 Oct 2024) EndedAt: 2024-10-16 16:22:12 -0400 (Wed, 16 Oct 2024) EllapsedTime: 44.7 seconds RetCode: 0 Status: OK