Package: maftools Version: 2.20.0 Command: /home/biocbuild/bbs-3.19-bioc/R/bin/R CMD build --keep-empty-dirs --no-resave-data maftools StartedAt: 2024-10-16 19:14:26 -0400 (Wed, 16 Oct 2024) EndedAt: 2024-10-16 19:17:22 -0400 (Wed, 16 Oct 2024) EllapsedTime: 176.3 seconds RetCode: 0 Status: OK PackageFile: maftools_2.20.0.tar.gz PackageFileSize: 10.92 MiB