Package: maftools Version: 2.20.0 Command: rm -rf maftools.buildbin-libdir && mkdir maftools.buildbin-libdir && E:\biocbuild\bbs-3.19-bioc\R\bin\R.exe CMD INSTALL --build --library=maftools.buildbin-libdir maftools_2.20.0.tar.gz StartedAt: 2024-10-17 08:03:54 -0400 (Thu, 17 Oct 2024) EndedAt: 2024-10-17 08:04:59 -0400 (Thu, 17 Oct 2024) EllapsedTime: 65.3 seconds RetCode: 0 Status: OK PackageFile: maftools_2.20.0.zip PackageFileSize: 13.59 MiB