Package: maftools Version: 2.20.0 Command: chmod a+r maftools -R && E:\biocbuild\bbs-3.19-bioc\R\bin\R.exe CMD build --keep-empty-dirs --no-resave-data maftools StartedAt: 2024-10-16 20:02:26 -0400 (Wed, 16 Oct 2024) EndedAt: 2024-10-16 20:06:16 -0400 (Wed, 16 Oct 2024) EllapsedTime: 230.0 seconds RetCode: 0 Status: OK PackageFile: maftools_2.20.0.tar.gz PackageFileSize: 8.885 MiB