Package: maftools Version: 2.20.0 Command: E:\biocbuild\bbs-3.19-bioc\R\bin\R.exe CMD INSTALL maftools StartedAt: 2024-10-16 17:00:28 -0400 (Wed, 16 Oct 2024) EndedAt: 2024-10-16 17:01:26 -0400 (Wed, 16 Oct 2024) EllapsedTime: 57.7 seconds RetCode: 0 Status: OK