Package: magpie Version: 1.4.0 Command: /Library/Frameworks/R.framework/Resources/bin/R CMD INSTALL magpie StartedAt: 2024-10-16 18:42:53 -0400 (Wed, 16 Oct 2024) EndedAt: 2024-10-16 18:43:39 -0400 (Wed, 16 Oct 2024) EllapsedTime: 46.2 seconds RetCode: 0 Status: OK