Package: magpie Version: 1.4.0 Command: /home/biocbuild/R/R-beta-2024-04-15_r86425/bin/R CMD INSTALL magpie StartedAt: 2024-05-08 21:02:53 -0000 (Wed, 08 May 2024) EndedAt: 2024-05-08 21:03:45 -0000 (Wed, 08 May 2024) EllapsedTime: 52.1 seconds RetCode: 0 Status: OK