Package: magpie Version: 1.4.0 Command: rm -rf magpie.buildbin-libdir && mkdir magpie.buildbin-libdir && F:\biocbuild\bbs-3.19-bioc\R\bin\R.exe CMD INSTALL --build --library=magpie.buildbin-libdir magpie_1.4.0.tar.gz StartedAt: 2024-06-27 08:26:32 -0400 (Thu, 27 Jun 2024) EndedAt: 2024-06-27 08:27:36 -0400 (Thu, 27 Jun 2024) EllapsedTime: 63.1 seconds RetCode: 0 Status: OK PackageFile: magpie_1.4.0.zip PackageFileSize: 1.364 MiB