Package: magpie Version: 1.4.0 Command: chmod a+r magpie -R && F:\biocbuild\bbs-3.19-bioc\R\bin\R.exe CMD build --keep-empty-dirs --no-resave-data magpie StartedAt: 2024-06-26 19:47:52 -0400 (Wed, 26 Jun 2024) EndedAt: 2024-06-26 19:49:04 -0400 (Wed, 26 Jun 2024) EllapsedTime: 72.2 seconds RetCode: 0 Status: OK PackageFile: magpie_1.4.0.tar.gz PackageFileSize: 1.539 MiB