Package: magrene Version: 1.6.0 Command: chmod a+r magrene -R && F:\biocbuild\bbs-3.19-bioc\R\bin\R.exe CMD build --keep-empty-dirs --no-resave-data magrene StartedAt: 2024-06-26 19:47:55 -0400 (Wed, 26 Jun 2024) EndedAt: 2024-06-26 19:48:53 -0400 (Wed, 26 Jun 2024) EllapsedTime: 57.8 seconds RetCode: 0 Status: OK PackageFile: magrene_1.6.0.tar.gz PackageFileSize: 2.256 MiB