Package: makecdfenv Version: 1.80.0 Command: rm -rf makecdfenv.buildbin-libdir && mkdir makecdfenv.buildbin-libdir && /Users/biocbuild/BBS/utils/build-universal.sh makecdfenv_1.80.0.tar.gz /Library/Frameworks/R.framework/Resources/bin/R makecdfenv.buildbin-libdir StartedAt: 2024-06-11 11:52:57 -0400 (Tue, 11 Jun 2024) EndedAt: 2024-06-11 11:53:20 -0400 (Tue, 11 Jun 2024) EllapsedTime: 23.2 seconds RetCode: 0 Status: OK PackageFile: makecdfenv_1.80.0.tgz PackageFileSize: 3.42 MiB