Package: makecdfenv Version: 1.80.0 Command: /home/biocbuild/R/R-beta-2024-04-15_r86425/bin/R CMD check --install=check:makecdfenv.install-out.txt --library=/home/biocbuild/R/R-beta-2024-04-15_r86425/site-library --no-vignettes --timings makecdfenv_1.80.0.tar.gz StartedAt: 2024-05-09 08:59:10 -0000 (Thu, 09 May 2024) EndedAt: 2024-05-09 08:59:49 -0000 (Thu, 09 May 2024) EllapsedTime: 39.1 seconds RetCode: 0 Status: OK CheckDir: makecdfenv.Rcheck Warnings: 0