Package: makecdfenv Version: 1.80.0 Command: /Library/Frameworks/R.framework/Resources/bin/R CMD build --keep-empty-dirs --no-resave-data makecdfenv StartedAt: 2024-10-16 20:29:27 -0400 (Wed, 16 Oct 2024) EndedAt: 2024-10-16 20:30:02 -0400 (Wed, 16 Oct 2024) EllapsedTime: 35.1 seconds RetCode: 0 Status: OK PackageFile: makecdfenv_1.80.0.tar.gz PackageFileSize: 3.259 MiB