Package: makecdfenv Version: 1.80.0 Command: rm -rf makecdfenv.buildbin-libdir && mkdir makecdfenv.buildbin-libdir && E:\biocbuild\bbs-3.19-bioc\R\bin\R.exe CMD INSTALL --build --library=makecdfenv.buildbin-libdir makecdfenv_1.80.0.tar.gz StartedAt: 2024-10-17 08:04:18 -0400 (Thu, 17 Oct 2024) EndedAt: 2024-10-17 08:04:45 -0400 (Thu, 17 Oct 2024) EllapsedTime: 26.7 seconds RetCode: 0 Status: OK PackageFile: makecdfenv_1.80.0.zip PackageFileSize: 3.299 MiB