Package: makecdfenv Version: 1.80.0 Command: chmod a+r makecdfenv -R && E:\biocbuild\bbs-3.19-bioc\R\bin\R.exe CMD build --keep-empty-dirs --no-resave-data makecdfenv StartedAt: 2024-10-16 20:03:04 -0400 (Wed, 16 Oct 2024) EndedAt: 2024-10-16 20:03:25 -0400 (Wed, 16 Oct 2024) EllapsedTime: 21.3 seconds RetCode: 0 Status: OK PackageFile: makecdfenv_1.80.0.tar.gz PackageFileSize: 3.131 MiB