Package: marr Version: 1.14.0 Command: /home/biocbuild/R/R-beta-2024-04-15_r86425/bin/R CMD build --keep-empty-dirs --no-resave-data marr StartedAt: 2024-05-09 01:21:04 -0000 (Thu, 09 May 2024) EndedAt: 2024-05-09 01:22:14 -0000 (Thu, 09 May 2024) EllapsedTime: 70.1 seconds RetCode: 0 Status: OK PackageFile: marr_1.14.0.tar.gz PackageFileSize: 652.8 KiB