Package: marr Version: 1.14.0 Command: /Library/Frameworks/R.framework/Resources/bin/R CMD build --keep-empty-dirs --no-resave-data marr StartedAt: 2024-10-16 20:30:29 -0400 (Wed, 16 Oct 2024) EndedAt: 2024-10-16 20:32:32 -0400 (Wed, 16 Oct 2024) EllapsedTime: 123.9 seconds RetCode: 0 Status: OK PackageFile: marr_1.14.0.tar.gz PackageFileSize: 591.1 KiB