Package: marray Version: 1.82.0 Maintainer: Yee Hwa (Jean) Yang MaintainerEmail: jean at biostat.ucsf.edu git_url: https://git.bioconductor.org/packages/marray git_branch: RELEASE_3_19 git_last_commit: 725b1fc git_last_commit_date: 2024-04-30 10:12:32 -0400 (Tue, 30 Apr 2024)