Package: marray Version: 1.82.0 Command: rm -rf marray.buildbin-libdir && mkdir marray.buildbin-libdir && E:\biocbuild\bbs-3.19-bioc\R\bin\R.exe CMD INSTALL --build --library=marray.buildbin-libdir marray_1.82.0.tar.gz StartedAt: 2024-10-17 08:04:32 -0400 (Thu, 17 Oct 2024) EndedAt: 2024-10-17 08:05:27 -0400 (Thu, 17 Oct 2024) EllapsedTime: 54.6 seconds RetCode: 0 Status: OK PackageFile: marray_1.82.0.zip PackageFileSize: 5.272 MiB