Package: martini Version: 1.24.0 Command: rm -rf martini.buildbin-libdir && mkdir martini.buildbin-libdir && /Users/biocbuild/BBS/utils/build-universal.sh martini_1.24.0.tar.gz /Library/Frameworks/R.framework/Resources/bin/R martini.buildbin-libdir StartedAt: 2024-10-17 16:30:20 -0400 (Thu, 17 Oct 2024) EndedAt: 2024-10-17 16:31:13 -0400 (Thu, 17 Oct 2024) EllapsedTime: 53.7 seconds RetCode: 0 Status: OK PackageFile: martini_1.24.0.tgz PackageFileSize: 715.2 KiB