Package: massiR Version: 1.40.0 Command: /Library/Frameworks/R.framework/Resources/bin/R CMD build --keep-empty-dirs --no-resave-data massiR StartedAt: 2024-10-17 03:33:10 -0400 (Thu, 17 Oct 2024) EndedAt: 2024-10-17 03:33:23 -0400 (Thu, 17 Oct 2024) EllapsedTime: 12.5 seconds RetCode: 0 Status: OK PackageFile: massiR_1.40.0.tar.gz PackageFileSize: 1.115 MiB