Package: massiR Version: 1.40.0 Command: /Library/Frameworks/R.framework/Resources/bin/R CMD check --install=check:massiR.install-out.txt --library=/Library/Frameworks/R.framework/Resources/library --no-vignettes --timings massiR_1.40.0.tar.gz StartedAt: 2024-10-17 07:40:34 -0400 (Thu, 17 Oct 2024) EndedAt: 2024-10-17 07:41:44 -0400 (Thu, 17 Oct 2024) EllapsedTime: 70.8 seconds RetCode: 0 Status: OK CheckDir: massiR.Rcheck Warnings: 0