Package: massiR Version: 1.40.0 Command: /home/biocbuild/bbs-3.19-bioc/R/bin/R CMD INSTALL massiR StartedAt: 2024-10-16 15:50:57 -0400 (Wed, 16 Oct 2024) EndedAt: 2024-10-16 15:51:04 -0400 (Wed, 16 Oct 2024) EllapsedTime: 7.5 seconds RetCode: 0 Status: OK