Package: massiR Version: 1.40.0 Command: rm -rf massiR.buildbin-libdir && mkdir massiR.buildbin-libdir && E:\biocbuild\bbs-3.19-bioc\R\bin\R.exe CMD INSTALL --build --library=massiR.buildbin-libdir massiR_1.40.0.tar.gz StartedAt: 2024-10-17 08:04:46 -0400 (Thu, 17 Oct 2024) EndedAt: 2024-10-17 08:04:54 -0400 (Thu, 17 Oct 2024) EllapsedTime: 7.8 seconds RetCode: 0 Status: OK PackageFile: massiR_1.40.0.zip PackageFileSize: 1.064 MiB