Package: massiR Version: 1.40.0 Command: chmod a+r massiR -R && E:\biocbuild\bbs-3.19-bioc\R\bin\R.exe CMD build --keep-empty-dirs --no-resave-data massiR StartedAt: 2024-10-16 20:04:54 -0400 (Wed, 16 Oct 2024) EndedAt: 2024-10-16 20:05:06 -0400 (Wed, 16 Oct 2024) EllapsedTime: 12.1 seconds RetCode: 0 Status: OK PackageFile: massiR_1.40.0.tar.gz PackageFileSize: 1.027 MiB