Package: mdp Version: 1.24.0 Command: rm -rf mdp.buildbin-libdir && mkdir mdp.buildbin-libdir && /Users/biocbuild/BBS/utils/build-universal.sh mdp_1.24.0.tar.gz /Library/Frameworks/R.framework/Resources/bin/R mdp.buildbin-libdir StartedAt: 2024-06-11 11:55:46 -0400 (Tue, 11 Jun 2024) EndedAt: 2024-06-11 11:55:57 -0400 (Tue, 11 Jun 2024) EllapsedTime: 11.1 seconds RetCode: 0 Status: OK PackageFile: mdp_1.24.0.tgz PackageFileSize: 4.349 MiB