Package: mdp Version: 1.24.0 Command: /home/biocbuild/R/R-beta-2024-04-15_r86425/bin/R CMD build --keep-empty-dirs --no-resave-data mdp StartedAt: 2024-05-09 01:24:33 -0000 (Thu, 09 May 2024) EndedAt: 2024-05-09 01:25:02 -0000 (Thu, 09 May 2024) EllapsedTime: 29.0 seconds RetCode: 0 Status: OK PackageFile: mdp_1.24.0.tar.gz PackageFileSize: 4.17 MiB