Package: mdp Version: 1.24.0 Command: rm -rf mdp.buildbin-libdir && mkdir mdp.buildbin-libdir && /Users/biocbuild/BBS/utils/build-universal.sh mdp_1.24.0.tar.gz /Library/Frameworks/R.framework/Resources/bin/R mdp.buildbin-libdir StartedAt: 2024-10-17 16:31:20 -0400 (Thu, 17 Oct 2024) EndedAt: 2024-10-17 16:31:31 -0400 (Thu, 17 Oct 2024) EllapsedTime: 11.7 seconds RetCode: 0 Status: OK PackageFile: mdp_1.24.0.tgz PackageFileSize: 4.348 MiB