Package: mdp Version: 1.24.0 Command: /home/biocbuild/bbs-3.19-bioc/R/bin/R CMD check --install=check:mdp.install-out.txt --library=/home/biocbuild/bbs-3.19-bioc/R/site-library --timings mdp_1.24.0.tar.gz StartedAt: 2024-10-17 02:05:38 -0400 (Thu, 17 Oct 2024) EndedAt: 2024-10-17 02:06:46 -0400 (Thu, 17 Oct 2024) EllapsedTime: 68.1 seconds RetCode: 0 Status: OK CheckDir: mdp.Rcheck Warnings: 0