Package: mdp Version: 1.24.0 Command: chmod a+r mdp -R && E:\biocbuild\bbs-3.19-bioc\R\bin\R.exe CMD build --keep-empty-dirs --no-resave-data mdp StartedAt: 2024-10-16 20:07:19 -0400 (Wed, 16 Oct 2024) EndedAt: 2024-10-16 20:07:50 -0400 (Wed, 16 Oct 2024) EllapsedTime: 30.3 seconds RetCode: 0 Status: OK PackageFile: mdp_1.24.0.tar.gz PackageFileSize: 4.172 MiB