Package: mdp Version: 1.24.0 Command: E:\biocbuild\bbs-3.19-bioc\R\bin\R.exe CMD INSTALL mdp StartedAt: 2024-10-16 16:08:22 -0400 (Wed, 16 Oct 2024) EndedAt: 2024-10-16 16:08:30 -0400 (Wed, 16 Oct 2024) EllapsedTime: 7.7 seconds RetCode: 0 Status: OK