Package: mdqc Version: 1.66.0 Command: /home/biocbuild/bbs-3.19-bioc/R/bin/R CMD build --keep-empty-dirs --no-resave-data mdqc StartedAt: 2024-10-16 19:19:08 -0400 (Wed, 16 Oct 2024) EndedAt: 2024-10-16 19:19:14 -0400 (Wed, 16 Oct 2024) EllapsedTime: 6.0 seconds RetCode: 0 Status: OK PackageFile: mdqc_1.66.0.tar.gz PackageFileSize: 141.7 KiB