Package: mdqc Version: 1.66.0 Command: rm -rf mdqc.buildbin-libdir && mkdir mdqc.buildbin-libdir && E:\biocbuild\bbs-3.19-bioc\R\bin\R.exe CMD INSTALL --build --library=mdqc.buildbin-libdir mdqc_1.66.0.tar.gz StartedAt: 2024-10-17 08:05:30 -0400 (Thu, 17 Oct 2024) EndedAt: 2024-10-17 08:05:35 -0400 (Thu, 17 Oct 2024) EllapsedTime: 4.6 seconds RetCode: 0 Status: OK PackageFile: mdqc_1.66.0.zip PackageFileSize: 184.3 KiB