Package: mdqc Version: 1.66.0 Command: E:\biocbuild\bbs-3.19-bioc\R\bin\R.exe CMD check --no-multiarch --install=check:mdqc.install-out.txt --library=E:\biocbuild\bbs-3.19-bioc\R\library --no-vignettes --timings mdqc_1.66.0.tar.gz StartedAt: 2024-10-17 03:00:23 -0400 (Thu, 17 Oct 2024) EndedAt: 2024-10-17 03:00:54 -0400 (Thu, 17 Oct 2024) EllapsedTime: 30.7 seconds RetCode: 0 Status: OK CheckDir: mdqc.Rcheck Warnings: 0