Package: megadepth Version: 1.14.0 Command: rm -rf megadepth.buildbin-libdir && mkdir megadepth.buildbin-libdir && /Users/biocbuild/BBS/utils/build-universal.sh megadepth_1.14.0.tar.gz /Library/Frameworks/R.framework/Resources/bin/R megadepth.buildbin-libdir StartedAt: 2024-06-11 11:56:33 -0400 (Tue, 11 Jun 2024) EndedAt: 2024-06-11 11:56:56 -0400 (Tue, 11 Jun 2024) EllapsedTime: 23.4 seconds RetCode: 0 Status: OK PackageFile: megadepth_1.14.0.tgz PackageFileSize: 483 KiB