Package: megadepth Version: 1.14.0 Command: /home/biocbuild/R/R-beta-2024-04-15_r86425/bin/R CMD build --keep-empty-dirs --no-resave-data megadepth StartedAt: 2024-05-09 01:25:59 -0000 (Thu, 09 May 2024) EndedAt: 2024-05-09 01:26:25 -0000 (Thu, 09 May 2024) EllapsedTime: 26.0 seconds RetCode: 1 Status: ERROR PackageFile: None PackageFileSize: NA