Package: megadepth Version: 1.14.0 Command: rm -rf megadepth.buildbin-libdir && mkdir megadepth.buildbin-libdir && /Users/biocbuild/BBS/utils/build-universal.sh megadepth_1.14.0.tar.gz /Library/Frameworks/R.framework/Resources/bin/R megadepth.buildbin-libdir StartedAt: 2024-06-10 00:25:44 -0400 (Mon, 10 Jun 2024) EndedAt: 2024-06-10 00:26:02 -0400 (Mon, 10 Jun 2024) EllapsedTime: 18.0 seconds RetCode: 0 Status: OK PackageFile: megadepth_1.14.0.tgz PackageFileSize: 482.8 KiB