Package: megadepth Version: 1.14.0 Command: /Library/Frameworks/R.framework/Resources/bin/R CMD build --keep-empty-dirs --no-resave-data megadepth StartedAt: 2024-06-09 17:10:25 -0400 (Sun, 09 Jun 2024) EndedAt: 2024-06-09 17:11:08 -0400 (Sun, 09 Jun 2024) EllapsedTime: 42.8 seconds RetCode: 0 Status: OK PackageFile: megadepth_1.14.0.tar.gz PackageFileSize: 465.5 KiB