Package: megadepth Version: 1.14.0 Command: /Library/Frameworks/R.framework/Resources/bin/R CMD check --install=check:megadepth.install-out.txt --library=/Library/Frameworks/R.framework/Resources/library --no-vignettes --timings megadepth_1.14.0.tar.gz StartedAt: 2024-06-09 21:20:40 -0400 (Sun, 09 Jun 2024) EndedAt: 2024-06-09 21:22:59 -0400 (Sun, 09 Jun 2024) EllapsedTime: 139.1 seconds RetCode: 0 Status: OK CheckDir: megadepth.Rcheck Warnings: 0